BEGIN:VCALENDAR
VERSION:2.0
CALSCALE:GREGORIAN
PRODID:-//Diputació de Barcelona//DibaCMS//EN
BEGIN:VEVENT
UID:26691
DTSTAMP:20260424T111316
DTSTART:20231125T183000
DTEND:20231125T183000
SUMMARY:Acte. Despenjada: Acte final en memòria de les dones assassinades
LOCATION:08110 Montcada i Reixac
METHOD:PUBLISH
X-WR-CALNAME:oac@montcada.org
X-WR-TIMEZONE:Europe/Madrid
DESCRIPTION:
URI:https://www.montcada.cat/ajuntament/govern/agenda-politica/hemeroteca-agenda-politica/acte-despenjada-acte-final-en-memoria-de-les-dones-assassinades.html
CLASS:PUBLIC
END:VEVENT
END:VCALENDAR
