BEGIN:VCALENDAR
VERSION:2.0
CALSCALE:GREGORIAN
PRODID:-//Diputació de Barcelona//DibaCMS//EN
BEGIN:VEVENT
UID:26622
DTSTAMP:20260424T092717
DTSTART:20231112T100000
DTEND:20231112T100000
SUMMARY:Acte. Visita guiada al Turó de Montcada
LOCATION:
METHOD:PUBLISH
X-WR-CALNAME:oac@montcada.org
X-WR-TIMEZONE:Europe/Madrid
DESCRIPTION:Amb l'entitat ACER

URI:https://www.montcada.cat/ajuntament/govern/agenda-politica/hemeroteca-agenda-politica/acte-visita-guiada-al-turo-de-montcada.html
CLASS:PUBLIC
END:VEVENT
END:VCALENDAR
