BEGIN:VCALENDAR
VERSION:2.0
CALSCALE:GREGORIAN
PRODID:-//Diputació de Barcelona//DibaCMS//EN
BEGIN:VEVENT
UID:26563
DTSTAMP:20260424T080614
DTSTART:20231201T093000
DTEND:20231201T093000
SUMMARY:Viista. Empresa Quinorgan
LOCATION:
METHOD:PUBLISH
X-WR-CALNAME:oac@montcada.org
X-WR-TIMEZONE:Europe/Madrid
DESCRIPTION:
URI:https://www.montcada.cat/ajuntament/govern/agenda-politica/hemeroteca-agenda-politica/viista-empresa-quinorgan.html
CLASS:PUBLIC
END:VEVENT
END:VCALENDAR
