BEGIN:VCALENDAR
VERSION:2.0
CALSCALE:GREGORIAN
PRODID:-//Diputació de Barcelona//DibaCMS//EN
BEGIN:VEVENT
UID:26561
DTSTAMP:20260424T171648
DTSTART:20231109T000000
DTEND:20231109T000000
SUMMARY:Reunió. Coodinadora Veïnal del Baix Besòs
LOCATION:
METHOD:PUBLISH
X-WR-CALNAME:oac@montcada.org
X-WR-TIMEZONE:Europe/Madrid
DESCRIPTION:
URI:https://www.montcada.cat/ajuntament/govern/agenda-politica/hemeroteca-agenda-politica/reunio-coodinadora-veinal-del-baix-besos.html
CLASS:PUBLIC
END:VEVENT
END:VCALENDAR
