BEGIN:VCALENDAR
VERSION:2.0
CALSCALE:GREGORIAN
PRODID:-//Diputació de Barcelona//DibaCMS//EN
BEGIN:VEVENT
UID:26533
DTSTAMP:20260424T152955
DTSTART:20231106T120000
DTEND:20231106T120000
SUMMARY:Visita. Gastronomic Forum Barcelona 2023
LOCATION:Fira de Barcelona 
METHOD:PUBLISH
X-WR-CALNAME:oac@montcada.org
X-WR-TIMEZONE:Europe/Madrid
DESCRIPTION:
URI:https://www.montcada.cat/ajuntament/govern/agenda-politica/hemeroteca-agenda-politica/visita-gastronomic-forum-barcelona-2023.html
CLASS:PUBLIC
END:VEVENT
END:VCALENDAR
