BEGIN:VCALENDAR
VERSION:2.0
CALSCALE:GREGORIAN
PRODID:-//Diputació de Barcelona//DibaCMS//EN
BEGIN:VEVENT
UID:26521
DTSTAMP:20260424T063303
DTSTART:20231123T193000
DTEND:20231123T193000
SUMMARY:Acte. Inauguració exposició 'El Vallès som gent de Vinya' 
LOCATION:Carrer Major, 32       08110 Montcada i Reixac
METHOD:PUBLISH
X-WR-CALNAME:oac@montcada.org
X-WR-TIMEZONE:Europe/Madrid
DESCRIPTION:
URI:https://www.montcada.cat/ajuntament/govern/agenda-politica/hemeroteca-agenda-politica/acte-inauguracio-exposicio-el-valles-som-gent-de-vinya-.html
CLASS:PUBLIC
END:VEVENT
END:VCALENDAR
