BEGIN:VCALENDAR
VERSION:2.0
CALSCALE:GREGORIAN
PRODID:-//Diputació de Barcelona//DibaCMS//EN
BEGIN:VEVENT
UID:26513
DTSTAMP:20260424T180540
DTSTART:20231104T183000
DTEND:20231104T183000
SUMMARY:Acte. Passatge del terror AFA El Viver
LOCATION:Carrer Viver, s/n       08110 Montcada i Reixac
METHOD:PUBLISH
X-WR-CALNAME:oac@montcada.org
X-WR-TIMEZONE:Europe/Madrid
DESCRIPTION:
URI:https://www.montcada.cat/ajuntament/govern/agenda-politica/hemeroteca-agenda-politica/acte-passatge-del-terror-afa-el-viver.html
CLASS:PUBLIC
END:VEVENT
END:VCALENDAR
