BEGIN:VCALENDAR
VERSION:2.0
CALSCALE:GREGORIAN
PRODID:-//Diputació de Barcelona//DibaCMS//EN
BEGIN:VEVENT
UID:26512
DTSTAMP:20260424T121021
DTSTART:20231104T100000
DTEND:20231104T100000
SUMMARY:Actes. Partits de futbol
LOCATION:Carrer Progrés, 61       08110 Montcada i Reixac
METHOD:PUBLISH
X-WR-CALNAME:oac@montcada.org
X-WR-TIMEZONE:Europe/Madrid
DESCRIPTION:FB Montcada - Sant Quirze Vallès / FB Montcada - Naise Barcelona  (aleví A i aleví B )

URI:https://www.montcada.cat/ajuntament/govern/agenda-politica/hemeroteca-agenda-politica/actes-partits-de-futbol.html
CLASS:PUBLIC
END:VEVENT
END:VCALENDAR
