BEGIN:VCALENDAR
VERSION:2.0
CALSCALE:GREGORIAN
PRODID:-//Diputació de Barcelona//DibaCMS//EN
BEGIN:VEVENT
UID:26498
DTSTAMP:20260424T062805
DTSTART:20231113T120000
DTEND:20231113T120000
SUMMARY:Reunió. Comissió informativa d'Administració i Territori AMB
LOCATION:
METHOD:PUBLISH
X-WR-CALNAME:oac@montcada.org
X-WR-TIMEZONE:Europe/Madrid
DESCRIPTION:
URI:https://www.montcada.cat/ajuntament/govern/agenda-politica/hemeroteca-agenda-politica/26498-reunio-comissio-informativa-dadministracio-i-territori-amb.html
CLASS:PUBLIC
END:VEVENT
END:VCALENDAR
