BEGIN:VCALENDAR
VERSION:2.0
CALSCALE:GREGORIAN
PRODID:-//Diputació de Barcelona//DibaCMS//EN
BEGIN:VEVENT
UID:26496
DTSTAMP:20260424T141006
DTSTART:20231103T110000
DTEND:20231103T110000
SUMMARY:Reunió. Juan Carlos Sánchez, Corp promotora immobiliària
LOCATION:Av. de la Unitat, 6 08110  Montcada i Reixac
METHOD:PUBLISH
X-WR-CALNAME:oac@montcada.org
X-WR-TIMEZONE:Europe/Madrid
DESCRIPTION:Tema: HPO NGEU de La Rasa

URI:https://www.montcada.cat/ajuntament/govern/agenda-politica/hemeroteca-agenda-politica/reunio-juan-carlos-sanchez-corp-promotora-immobiliaria.html
CLASS:PUBLIC
END:VEVENT
END:VCALENDAR
