BEGIN:VCALENDAR
VERSION:2.0
CALSCALE:GREGORIAN
PRODID:-//Diputació de Barcelona//DibaCMS//EN
BEGIN:VEVENT
UID:26495
DTSTAMP:20260424T121102
DTSTART:20231101T180000
DTEND:20231101T180000
SUMMARY:Acte. Presentació FB Montcada
LOCATION:Carrer Progrés, 61       08110 Montcada i Reixac
METHOD:PUBLISH
X-WR-CALNAME:oac@montcada.org
X-WR-TIMEZONE:Europe/Madrid
DESCRIPTION:
URI:https://www.montcada.cat/ajuntament/govern/agenda-politica/hemeroteca-agenda-politica/acte-presentacio-fb-montcada.html
CLASS:PUBLIC
END:VEVENT
END:VCALENDAR
