BEGIN:VCALENDAR
VERSION:2.0
CALSCALE:GREGORIAN
PRODID:-//Diputació de Barcelona//DibaCMS//EN
BEGIN:VEVENT
UID:26478
DTSTAMP:20260424T173943
DTSTART:20231031T163000
DTEND:20231031T163000
SUMMARY:Acte. Castanyada Casal de la Mina
LOCATION:Avinguda de la Unitat, s/n 08110 Montcada i Reixac
METHOD:PUBLISH
X-WR-CALNAME:oac@montcada.org
X-WR-TIMEZONE:Europe/Madrid
DESCRIPTION:
URI:https://www.montcada.cat/ajuntament/govern/agenda-politica/hemeroteca-agenda-politica/acte-castanyada-casal-de-la-mina.html
CLASS:PUBLIC
END:VEVENT
END:VCALENDAR
