BEGIN:VCALENDAR
VERSION:2.0
CALSCALE:GREGORIAN
PRODID:-//Diputació de Barcelona//DibaCMS//EN
BEGIN:VEVENT
UID:26435
DTSTAMP:20260424T091927
DTSTART:20231111T123000
DTEND:20231111T123000
SUMMARY:Acte. presentació llibre 'Condenados relatos, de Carles Quílez
LOCATION:Carrer dels Arcs, 5 - Barcelona  
METHOD:PUBLISH
X-WR-CALNAME:oac@montcada.org
X-WR-TIMEZONE:Europe/Madrid
DESCRIPTION:
URI:https://www.montcada.cat/ajuntament/govern/agenda-politica/hemeroteca-agenda-politica/acte-presentacio-llibre-condenados-relatos-de-carles-quilez.html
CLASS:PUBLIC
END:VEVENT
END:VCALENDAR
