BEGIN:VCALENDAR
VERSION:2.0
CALSCALE:GREGORIAN
PRODID:-//Diputació de Barcelona//DibaCMS//EN
BEGIN:VEVENT
UID:26434
DTSTAMP:20260424T120346
DTSTART:20231031T093000
DTEND:20231031T093000
SUMMARY:Visita. Col·legi la Salle
LOCATION:Passeig Sant Joan Baptista de la Salle, 1       08110 Montcada i Reixac
METHOD:PUBLISH
X-WR-CALNAME:oac@montcada.org
X-WR-TIMEZONE:Europe/Madrid
DESCRIPTION:Presentació projecte APS amb codis QR

URI:https://www.montcada.cat/ajuntament/govern/agenda-politica/hemeroteca-agenda-politica/visita-collegi-la-salle.html
CLASS:PUBLIC
END:VEVENT
END:VCALENDAR
