BEGIN:VCALENDAR
VERSION:2.0
CALSCALE:GREGORIAN
PRODID:-//Diputació de Barcelona//DibaCMS//EN
BEGIN:VEVENT
UID:26355
DTSTAMP:20260424T170814
DTSTART:20231026T103000
DTEND:20231026T103000
SUMMARY:Reunió. Carmen Díaz, CEO Holcim España
LOCATION:Av. de la Unitat, 6 08110  Montcada i Reixac
METHOD:PUBLISH
X-WR-CALNAME:oac@montcada.org
X-WR-TIMEZONE:Europe/Madrid
DESCRIPTION:
URI:https://www.montcada.cat/ajuntament/govern/agenda-politica/reunions-grups-interes/reunio-carmen-diaz-ceo-holcim-espana.html
CLASS:PUBLIC
END:VEVENT
END:VCALENDAR
