BEGIN:VCALENDAR
VERSION:2.0
CALSCALE:GREGORIAN
PRODID:-//Diputació de Barcelona//DibaCMS//EN
BEGIN:VEVENT
UID:26344
DTSTAMP:20260424T050104
DTSTART:20231122T093000
DTEND:20231122T093000
SUMMARY:Reunió. Oriol Vall-llovera, gerent TERSA
LOCATION:Av. de la Unitat, 6 08110  Montcada i Reixac
METHOD:PUBLISH
X-WR-CALNAME:oac@montcada.org
X-WR-TIMEZONE:Europe/Madrid
DESCRIPTION:
URI:https://www.montcada.cat/ajuntament/govern/agenda-politica/hemeroteca-agenda-politica/reunio-oriol-vall-llovera-gerent-tersa.html
CLASS:PUBLIC
END:VEVENT
END:VCALENDAR
