BEGIN:VCALENDAR
VERSION:2.0
CALSCALE:GREGORIAN
PRODID:-//Diputació de Barcelona//DibaCMS//EN
BEGIN:VEVENT
UID:26339
DTSTAMP:20260424T121512
DTSTART:20231103T190000
DTEND:20231103T190000
SUMMARY:Acte. Presentació recreació del Castell de Montcada
LOCATION: pl. de l'Església, 12       08110 Montcada i Reixac
METHOD:PUBLISH
X-WR-CALNAME:oac@montcada.org
X-WR-TIMEZONE:Europe/Madrid
DESCRIPTION:
URI:https://www.montcada.cat/ajuntament/govern/agenda-politica/hemeroteca-agenda-politica/acte-presentacio-recreacio-del-castell-de-montcada.html
CLASS:PUBLIC
END:VEVENT
END:VCALENDAR
