BEGIN:VCALENDAR
VERSION:2.0
CALSCALE:GREGORIAN
PRODID:-//Diputació de Barcelona//DibaCMS//EN
BEGIN:VEVENT
UID:26335
DTSTAMP:20260424T165658
DTSTART:20231029T120000
DTEND:20231029T120000
SUMMARY:Acte. X Trobada de Vehicles clàssics i Fira de l'automòbil
LOCATION:camí de la Font Freda 08110 Montcada i Reixac
METHOD:PUBLISH
X-WR-CALNAME:oac@montcada.org
X-WR-TIMEZONE:Europe/Madrid
DESCRIPTION:
URI:https://www.montcada.cat/ajuntament/govern/agenda-politica/hemeroteca-agenda-politica/acte-x-trobada-de-vehicles-classics-i-fira-de-lautomobil.html
CLASS:PUBLIC
END:VEVENT
END:VCALENDAR
