BEGIN:VCALENDAR
VERSION:2.0
CALSCALE:GREGORIAN
PRODID:-//Diputació de Barcelona//DibaCMS//EN
BEGIN:VEVENT
UID:26329
DTSTAMP:20260424T104245
DTSTART:20231030T173000
DTEND:20231030T173000
SUMMARY:Acte. Lliurament Premis Arrels Esportives
LOCATION:Institut Nacional d’Educació Física de Catalunya (accés per avinguda de l’Estadi, 12-22) 
METHOD:PUBLISH
X-WR-CALNAME:oac@montcada.org
X-WR-TIMEZONE:Europe/Madrid
DESCRIPTION:
URI:https://www.montcada.cat/ajuntament/govern/agenda-politica/hemeroteca-agenda-politica/acte-lliurament-premis-arrels-esportives.html
CLASS:PUBLIC
END:VEVENT
END:VCALENDAR
