BEGIN:VCALENDAR
VERSION:2.0
CALSCALE:GREGORIAN
PRODID:-//Diputació de Barcelona//DibaCMS//EN
BEGIN:VEVENT
UID:26313
DTSTAMP:20260424T080223
DTSTART:20231129T160000
DTEND:20231129T160000
SUMMARY:Reunió. Consell Administració TERSA
LOCATION:TERSA (Av. Eduard Maristany, 44, 08930  Sant Adrià de Besòs 
METHOD:PUBLISH
X-WR-CALNAME:oac@montcada.org
X-WR-TIMEZONE:Europe/Madrid
DESCRIPTION:
URI:https://www.montcada.cat/ajuntament/govern/agenda-politica/hemeroteca-agenda-politica/reunio-consell-administracio-tersa.html
CLASS:PUBLIC
END:VEVENT
END:VCALENDAR
