BEGIN:VCALENDAR
VERSION:2.0
CALSCALE:GREGORIAN
PRODID:-//Diputació de Barcelona//DibaCMS//EN
BEGIN:VEVENT
UID:26303
DTSTAMP:20260424T093556
DTSTART:20231120T150000
DTEND:20231120T150000
SUMMARY:Reunió. Ple Consell d'Infants
LOCATION:Carrer Major, 32 - Carrer Domènec Fins, 15 08110 Montcada i Reixac
METHOD:PUBLISH
X-WR-CALNAME:oac@montcada.org
X-WR-TIMEZONE:Europe/Madrid
DESCRIPTION:
URI:https://www.montcada.cat/ajuntament/govern/agenda-politica/hemeroteca-agenda-politica/reunio-ple-consell-dinfants.html
CLASS:PUBLIC
END:VEVENT
END:VCALENDAR
