BEGIN:VCALENDAR
VERSION:2.0
CALSCALE:GREGORIAN
PRODID:-//Diputació de Barcelona//DibaCMS//EN
BEGIN:VEVENT
UID:26297
DTSTAMP:20260424T121457
DTSTART:20231109T160000
DTEND:20231109T160000
SUMMARY:Reunió. Consell General Consorci Besòs
LOCATION:Seu Consorci (Olímpic s/n, Edifici Besòs, 2a planta, 08930 Sant Adrià de Besòs) 
METHOD:PUBLISH
X-WR-CALNAME:oac@montcada.org
X-WR-TIMEZONE:Europe/Madrid
DESCRIPTION:
URI:https://www.montcada.cat/ajuntament/govern/agenda-politica/hemeroteca-agenda-politica/reunio-consell-general-consorci-besos.html
CLASS:PUBLIC
END:VEVENT
END:VCALENDAR
