BEGIN:VCALENDAR
VERSION:2.0
CALSCALE:GREGORIAN
PRODID:-//Diputació de Barcelona//DibaCMS//EN
BEGIN:VEVENT
UID:26293
DTSTAMP:20260424T152017
DTSTART:20231108T110000
DTEND:20231108T110000
SUMMARY:Reunió. Servei transport al Barcelonès Nord
LOCATION:Àrea Metropolitana de Barcelona 
METHOD:PUBLISH
X-WR-CALNAME:oac@montcada.org
X-WR-TIMEZONE:Europe/Madrid
DESCRIPTION:
URI:https://www.montcada.cat/ajuntament/govern/agenda-politica/hemeroteca-agenda-politica/reunio-servei-transport-al-barcelones-nord.html
CLASS:PUBLIC
END:VEVENT
END:VCALENDAR
