BEGIN:VCALENDAR
VERSION:2.0
CALSCALE:GREGORIAN
PRODID:-//Diputació de Barcelona//DibaCMS//EN
BEGIN:VEVENT
UID:26290
DTSTAMP:20260424T182730
DTSTART:20231107T100000
DTEND:20231107T100000
SUMMARY:Reunió. Restauradors rambla Països Catalans
LOCATION:
METHOD:PUBLISH
X-WR-CALNAME:oac@montcada.org
X-WR-TIMEZONE:Europe/Madrid
DESCRIPTION:
URI:https://www.montcada.cat/ajuntament/govern/agenda-politica/hemeroteca-agenda-politica/reunio-restauradors-rambla-paisos-catalans.html
CLASS:PUBLIC
END:VEVENT
END:VCALENDAR
