BEGIN:VCALENDAR
VERSION:2.0
CALSCALE:GREGORIAN
PRODID:-//Diputació de Barcelona//DibaCMS//EN
BEGIN:VEVENT
UID:26127
DTSTAMP:20260424T200027
DTSTART:20231011T170000
DTEND:20231011T170000
SUMMARY:Reunió. Paula Colominas, empresa Oideco
LOCATION:Av. de la Unitat, 6 08110  Montcada i Reixac
METHOD:PUBLISH
X-WR-CALNAME:oac@montcada.org
X-WR-TIMEZONE:Europe/Madrid
DESCRIPTION:Tema: presentació projecte social gent gran

URI:https://www.montcada.cat/ajuntament/govern/agenda-politica/hemeroteca-agenda-politica/reunio-paula-colominas-empresa-oideco.html
CLASS:PUBLIC
END:VEVENT
END:VCALENDAR
