BEGIN:VCALENDAR
VERSION:2.0
CALSCALE:GREGORIAN
PRODID:-//Diputació de Barcelona//DibaCMS//EN
BEGIN:VEVENT
UID:26123
DTSTAMP:20260424T140220
DTSTART:20231010T200000
DTEND:20231010T200000
SUMMARY:Reunió. Veïnat parc Ca n'Oller
LOCATION:
METHOD:PUBLISH
X-WR-CALNAME:oac@montcada.org
X-WR-TIMEZONE:Europe/Madrid
DESCRIPTION:
URI:https://www.montcada.cat/ajuntament/govern/agenda-politica/hemeroteca-agenda-politica/reunio-veinat-parc-ca-noller.html
CLASS:PUBLIC
END:VEVENT
END:VCALENDAR
