BEGIN:VCALENDAR
VERSION:2.0
CALSCALE:GREGORIAN
PRODID:-//Diputació de Barcelona//DibaCMS//EN
BEGIN:VEVENT
UID:26122
DTSTAMP:20260424T121305
DTSTART:20231030T110000
DTEND:20231030T110000
SUMMARY:Visita. Centre de formació de persones adultes
LOCATION:Carrer Reixagó, 5       08110 Montcada i Reixac
METHOD:PUBLISH
X-WR-CALNAME:oac@montcada.org
X-WR-TIMEZONE:Europe/Madrid
DESCRIPTION:
URI:https://www.montcada.cat/ajuntament/govern/agenda-politica/hemeroteca-agenda-politica/visita-centre-de-formacio-de-persones-adultes.html
CLASS:PUBLIC
END:VEVENT
END:VCALENDAR
