BEGIN:VCALENDAR
VERSION:2.0
CALSCALE:GREGORIAN
PRODID:-//Diputació de Barcelona//DibaCMS//EN
BEGIN:VEVENT
UID:26121
DTSTAMP:20260424T141522
DTSTART:20231024T161500
DTEND:20231024T161500
SUMMARY:Reunió. Agustí Serra, director general d’Ordenació del Territori, Urbanisme i Arquitectura
LOCATION:Direcció general d’Ordenació del Territori, Urbanisme i Arquitectura (Av. Josep Tarradellas, 2-6 | 08029 Barcelona) 
METHOD:PUBLISH
X-WR-CALNAME:oac@montcada.org
X-WR-TIMEZONE:Europe/Madrid
DESCRIPTION:
URI:https://www.montcada.cat/ajuntament/govern/agenda-politica/hemeroteca-agenda-politica/reunio-agusti-serra-director-general-dordenacio-del-territori-urbanisme-i-arquitectura.html
CLASS:PUBLIC
END:VEVENT
END:VCALENDAR
