BEGIN:VCALENDAR
VERSION:2.0
CALSCALE:GREGORIAN
PRODID:-//Diputació de Barcelona//DibaCMS//EN
BEGIN:VEVENT
UID:26117
DTSTAMP:20260424T153827
DTSTART:20231017T120000
DTEND:20231017T120000
SUMMARY:Reunió. Eva Menor, presidenta de l’Àrea de Desenvolupament Econòmic i Turisme de la Diputació de Barcelona
LOCATION:Av. de la Unitat, 6 08110  Montcada i Reixac
METHOD:PUBLISH
X-WR-CALNAME:oac@montcada.org
X-WR-TIMEZONE:Europe/Madrid
DESCRIPTION:
URI:https://www.montcada.cat/ajuntament/govern/agenda-politica/hemeroteca-agenda-politica/reunio-eva-menor-presidenta-de-larea-de-desenvolupament-economic-i-turisme-de-la-diputacio-de-barcelona.html
CLASS:PUBLIC
END:VEVENT
END:VCALENDAR
