BEGIN:VCALENDAR
VERSION:2.0
CALSCALE:GREGORIAN
PRODID:-//Diputació de Barcelona//DibaCMS//EN
BEGIN:VEVENT
UID:26115
DTSTAMP:20260424T172311
DTSTART:20231010T110000
DTEND:20231010T110000
SUMMARY:Acte. Presentació Mostra gastronòmica i fira del motor
LOCATION:Avinguda de la Unitat, s/n 08110 Montcada i Reixac
METHOD:PUBLISH
X-WR-CALNAME:oac@montcada.org
X-WR-TIMEZONE:Europe/Madrid
DESCRIPTION:
URI:https://www.montcada.cat/ajuntament/govern/agenda-politica/hemeroteca-agenda-politica/acte-presentacio-mostra-gastronomica-i-fira-del-motor.html
CLASS:PUBLIC
END:VEVENT
END:VCALENDAR
