BEGIN:VCALENDAR
VERSION:2.0
CALSCALE:GREGORIAN
PRODID:-//Diputació de Barcelona//DibaCMS//EN
BEGIN:VEVENT
UID:26114
DTSTAMP:20260424T172948
DTSTART:20231009T170000
DTEND:20231009T170000
SUMMARY:Reunió. Montse López, ACER
LOCATION:Av. de la Unitat, 6 08110  Montcada i Reixac
METHOD:PUBLISH
X-WR-CALNAME:oac@montcada.org
X-WR-TIMEZONE:Europe/Madrid
DESCRIPTION:
URI:https://www.montcada.cat/ajuntament/govern/agenda-politica/hemeroteca-agenda-politica/reunio-montse-lopez-acer.html
CLASS:PUBLIC
END:VEVENT
END:VCALENDAR
