BEGIN:VCALENDAR
VERSION:2.0
CALSCALE:GREGORIAN
PRODID:-//Diputació de Barcelona//DibaCMS//EN
BEGIN:VEVENT
UID:26013
DTSTAMP:20260424T220837
DTSTART:20231007T110000
DTEND:20231007T110000
SUMMARY:Acte. 8a Trobada de Bestiari a Montcada i Reixac
LOCATION:
METHOD:PUBLISH
X-WR-CALNAME:oac@montcada.org
X-WR-TIMEZONE:Europe/Madrid
DESCRIPTION:
URI:https://www.montcada.cat/ajuntament/govern/agenda-politica/hemeroteca-agenda-politica/acte-8a-trobada-de-bestiari-a-montcada-i-reixac.html
CLASS:PUBLIC
END:VEVENT
END:VCALENDAR
