BEGIN:VCALENDAR
VERSION:2.0
CALSCALE:GREGORIAN
PRODID:-//Diputació de Barcelona//DibaCMS//EN
BEGIN:VEVENT
UID:25809
DTSTAMP:20260424T170728
DTSTART:20231025T130000
DTEND:20231025T130000
SUMMARY:Visita. Empresa Alba Instituto Técnico de Formación
LOCATION:Carrer Farigola, nau 6 
METHOD:PUBLISH
X-WR-CALNAME:oac@montcada.org
X-WR-TIMEZONE:Europe/Madrid
DESCRIPTION:
URI:https://www.montcada.cat/ajuntament/govern/agenda-politica/hemeroteca-agenda-politica/visita-empresa-alba-instituto-tecnico-de-formacion.html
CLASS:PUBLIC
END:VEVENT
END:VCALENDAR
