BEGIN:VCALENDAR
VERSION:2.0
CALSCALE:GREGORIAN
PRODID:-//Diputació de Barcelona//DibaCMS//EN
BEGIN:VEVENT
UID:25808
DTSTAMP:20260424T153114
DTSTART:20231025T093000
DTEND:20231025T093000
SUMMARY:Visita. Escola bressol Font Freda
LOCATION:Carrer Francesc Layret, s/n       08110 Montcada i Reixac
METHOD:PUBLISH
X-WR-CALNAME:oac@montcada.org
X-WR-TIMEZONE:Europe/Madrid
DESCRIPTION:
URI:https://www.montcada.cat/ajuntament/govern/agenda-politica/hemeroteca-agenda-politica/visita-escola-bressol-font-freda.html
CLASS:PUBLIC
END:VEVENT
END:VCALENDAR
