BEGIN:VCALENDAR
VERSION:2.0
CALSCALE:GREGORIAN
PRODID:-//Diputació de Barcelona//DibaCMS//EN
BEGIN:VEVENT
UID:25787
DTSTAMP:20260424T154005
DTSTART:20231009T123000
DTEND:20231009T123000
SUMMARY:Reunió. Ajuntaments de Cerdanyola, Ripollet i Montcada i Reixac
LOCATION:Ajuntament de Cerdanyola 
METHOD:PUBLISH
X-WR-CALNAME:oac@montcada.org
X-WR-TIMEZONE:Europe/Madrid
DESCRIPTION:Tema: Redosa-hospital

URI:https://www.montcada.cat/ajuntament/govern/agenda-politica/hemeroteca-agenda-politica/reunio-ajuntaments-de-cerdanyola-ripollet-i-montcada-i-reixac.html
CLASS:PUBLIC
END:VEVENT
END:VCALENDAR
