BEGIN:VCALENDAR
VERSION:2.0
CALSCALE:GREGORIAN
PRODID:-//Diputació de Barcelona//DibaCMS//EN
BEGIN:VEVENT
UID:25744
DTSTAMP:20260424T181555
DTSTART:20231023T160000
DTEND:20231023T160000
SUMMARY:Reunió. Samuel Reyes, director ACA
LOCATION:
METHOD:PUBLISH
X-WR-CALNAME:oac@montcada.org
X-WR-TIMEZONE:Europe/Madrid
DESCRIPTION:
URI:https://www.montcada.cat/ajuntament/govern/agenda-politica/hemeroteca-agenda-politica/reunio-samuel-reyes-director-aca.html
CLASS:PUBLIC
END:VEVENT
END:VCALENDAR
