BEGIN:VCALENDAR
VERSION:2.0
CALSCALE:GREGORIAN
PRODID:-//Diputació de Barcelona//DibaCMS//EN
BEGIN:VEVENT
UID:25624
DTSTAMP:20260422T065442
DTSTART:20230907T193000
DTEND:20231015T000000
SUMMARY:Exposició 'Retrospectiva'
LOCATION: pl. de l'Església, 12       08110 Montcada i Reixac
METHOD:PUBLISH
X-WR-CALNAME:oac@montcada.org
X-WR-TIMEZONE:Europe/Madrid
DESCRIPTION:Recull d'obres de l'artista Núria Guinovart

URI:https://www.montcada.cat/actualitat/agenda/exposicio-retrospectiva.html
CLASS:PUBLIC
END:VEVENT
END:VCALENDAR
