BEGIN:VCALENDAR
VERSION:2.0
CALSCALE:GREGORIAN
PRODID:-//Diputació de Barcelona//DibaCMS//EN
BEGIN:VEVENT
UID:25621
DTSTAMP:20260421T223226
DTSTART:20230908T000000
DTEND:20230908T000000
SUMMARY:Festes del Turó per la festivitat de la Mare de Déu del Turó
LOCATION:
METHOD:PUBLISH
X-WR-CALNAME:oac@montcada.org
X-WR-TIMEZONE:Europe/Madrid
DESCRIPTION:
URI:https://www.montcada.cat/actualitat/agenda/festes-del-turo-per-la-festivitat-de-la-mare-de-deu-del-turo.html
CLASS:PUBLIC
END:VEVENT
END:VCALENDAR
