BEGIN:VCALENDAR
VERSION:2.0
CALSCALE:GREGORIAN
PRODID:-//Diputació de Barcelona//DibaCMS//EN
BEGIN:VEVENT
UID:25587
DTSTAMP:20260425T013822
DTSTART:20230920T173000
DTEND:20230920T173000
SUMMARY:Hora del conte. Contes de pirates
LOCATION: c. Tarragona, 32       08110 Montcada i Reixac
METHOD:PUBLISH
X-WR-CALNAME:oac@montcada.org
X-WR-TIMEZONE:Europe/Madrid
DESCRIPTION:Cia. Patawa

URI:https://www.montcada.cat/actualitat/agenda/hora-del-conte-contes-de-pirates.html
CLASS:PUBLIC
END:VEVENT
END:VCALENDAR
