BEGIN:VCALENDAR
VERSION:2.0
CALSCALE:GREGORIAN
PRODID:-//Diputació de Barcelona//DibaCMS//EN
BEGIN:VEVENT
UID:25541
DTSTAMP:20260423T045834
DTSTART:20230908T120000
DTEND:20230911T230000
SUMMARY:Festa Major Terra Nostra 2023
LOCATION:
METHOD:PUBLISH
X-WR-CALNAME:oac@montcada.org
X-WR-TIMEZONE:Europe/Madrid
DESCRIPTION:Organitza: Associació de Veïns de Terra Nostra

URI:https://www.montcada.cat/actualitat/agenda/festa-major-terra-nostra-2023.html
CLASS:PUBLIC
END:VEVENT
END:VCALENDAR
