BEGIN:VCALENDAR
VERSION:2.0
CALSCALE:GREGORIAN
PRODID:-//Diputació de Barcelona//DibaCMS//EN
BEGIN:VEVENT
UID:25420
DTSTAMP:20260421T182617
DTSTART:20230622T190000
DTEND:20230622T190000
SUMMARY:Acte. Inauguració exposició 'Petits artistes d'El Turó'
LOCATION: c. Masia, 39       08110 Montcada i Reixac
METHOD:PUBLISH
X-WR-CALNAME:oac@montcada.org
X-WR-TIMEZONE:Europe/Madrid
DESCRIPTION:
URI:https://www.montcada.cat/ajuntament/govern/agenda-politica/hemeroteca-agenda-politica/acte-inauguracio-exposicio-petits-artistes-del-turo.html
CLASS:PUBLIC
END:VEVENT
END:VCALENDAR
