BEGIN:VCALENDAR
VERSION:2.0
CALSCALE:GREGORIAN
PRODID:-//Diputació de Barcelona//DibaCMS//EN
BEGIN:VEVENT
UID:25387
DTSTAMP:20260421T144224
DTSTART:20230705T130000
DTEND:20230705T130000
SUMMARY:Roda de premsa. Presentació programa 'Viu La Ribera'
LOCATION:Carrer Llevant, 10       08110 Montcada i Reixac
METHOD:PUBLISH
X-WR-CALNAME:oac@montcada.org
X-WR-TIMEZONE:Europe/Madrid
DESCRIPTION:
URI:https://www.montcada.cat/ajuntament/govern/agenda-politica/hemeroteca-agenda-politica/roda-de-premsa-presentacio-programa-viu-la-ribera.html
CLASS:PUBLIC
END:VEVENT
END:VCALENDAR
