BEGIN:VCALENDAR
VERSION:2.0
CALSCALE:GREGORIAN
PRODID:-//Diputació de Barcelona//DibaCMS//EN
BEGIN:VEVENT
UID:19754
DTSTAMP:20260425T032527
DTSTART:20230615T110000
DTEND:20230615T110000
SUMMARY:Màgia. El Mag Koko
LOCATION:Parc Salvador Allende, s/n 08110 Montcada i Reixac
METHOD:PUBLISH
X-WR-CALNAME:oac@montcada.org
X-WR-TIMEZONE:Europe/Madrid
DESCRIPTION:Amb motiu del dia Mundial de la Presa de Consciència sobre l'Abús i el Maltractament a les Persones Grans

URI:https://www.montcada.cat/actualitat/agenda/magia-el-mag-koko.html
CLASS:PUBLIC
END:VEVENT
END:VCALENDAR
