BEGIN:VCALENDAR
VERSION:2.0
CALSCALE:GREGORIAN
PRODID:-//Diputació de Barcelona//DibaCMS//EN
BEGIN:VEVENT
UID:19681
DTSTAMP:20260422T080701
DTSTART:20230530T170000
DTEND:20230530T170000
SUMMARY:Cinefòrum documental. La generación silenciosa
LOCATION:Carrer Major, 32 - Carrer Domènec Fins, 15 08110 Montcada i Reixac
METHOD:PUBLISH
X-WR-CALNAME:oac@montcada.org
X-WR-TIMEZONE:Europe/Madrid
DESCRIPTION:Documental sobre memòria històrica LGTBI

URI:https://www.montcada.cat/actualitat/agenda/cineforum-documental-la-generacion-silenciosa.html
CLASS:PUBLIC
END:VEVENT
END:VCALENDAR
