BEGIN:VCALENDAR
VERSION:2.0
CALSCALE:GREGORIAN
PRODID:-//Diputació de Barcelona//DibaCMS//EN
BEGIN:VEVENT
UID:19092
DTSTAMP:20260424T100406
DTSTART:20230315T180000
DTEND:20230315T180000
SUMMARY:Suma. Taller per reflexionar sobre la diversitat lingüística
LOCATION:
METHOD:PUBLISH
X-WR-CALNAME:oac@montcada.org
X-WR-TIMEZONE:Europe/Madrid
DESCRIPTION:Amb David Vila i Jessica Neuquelman, Llenguaferits.

URI:https://www.montcada.cat/actualitat/agenda/suma-taller-per-reflexionar-sobre-la-diversitat-linguistica.html
CLASS:PUBLIC
END:VEVENT
END:VCALENDAR
