BEGIN:VCALENDAR
VERSION:2.0
CALSCALE:GREGORIAN
PRODID:-//Diputació de Barcelona//DibaCMS//EN
BEGIN:VEVENT
UID:18910
DTSTAMP:20260421T190719
DTSTART:20230324T180000
DTEND:20230324T180000
SUMMARY:Xerrada. Treball sexual i prostitució. Aclarint conceptes i explicant els models d’abordatge
LOCATION:Carrer Major, 32 - Carrer Domènec Fins, 15 08110 Montcada i Reixac
METHOD:PUBLISH
X-WR-CALNAME:oac@montcada.org
X-WR-TIMEZONE:Europe/Madrid
DESCRIPTION:
URI:https://www.montcada.cat/actualitat/agenda/xerrada-treball-sexual-i-prostitucio-aclarint-conceptes-i-explicant-els-models-dabordatge.html
CLASS:PUBLIC
END:VEVENT
END:VCALENDAR
