BEGIN:VCALENDAR
VERSION:2.0
CALSCALE:GREGORIAN
PRODID:-//Diputació de Barcelona//DibaCMS//EN
BEGIN:VEVENT
UID:18909
DTSTAMP:20260423T035847
DTSTART:20230319T180000
DTEND:20230319T180000
SUMMARY:Teatre: Mujeres Atacadas CANCEL·LADA!
LOCATION: c. Masia, 39       08110 Montcada i Reixac
METHOD:PUBLISH
X-WR-CALNAME:oac@montcada.org
X-WR-TIMEZONE:Europe/Madrid
DESCRIPTION:Les entrades es retornaran al mateix número de compte amb el que van ser comprades el més aviat possible.
Per qualsevol dubte respecte a la devolució podeu escriure a cultura@montcada.org

URI:https://www.montcada.cat/actualitat/agenda/teatre-mujeres-atacadas-cancellada.html
CLASS:PUBLIC
END:VEVENT
END:VCALENDAR
