BEGIN:VCALENDAR
VERSION:2.0
CALSCALE:GREGORIAN
PRODID:-//Diputació de Barcelona//DibaCMS//EN
BEGIN:VEVENT
UID:18532
DTSTAMP:20260421T133958
DTSTART:20230128T110000
DTEND:20230128T110000
SUMMARY:Club de lectura. Blanc i negre
LOCATION: c. Tarragona, 32       08110 Montcada i Reixac
METHOD:PUBLISH
X-WR-CALNAME:oac@montcada.org
X-WR-TIMEZONE:Europe/Madrid
DESCRIPTION:Sobre l'obra de David Macaulay

URI:https://www.montcada.cat/actualitat/agenda/club-de-lectura-blanc-i-negre.html
CLASS:PUBLIC
END:VEVENT
END:VCALENDAR
