BEGIN:VCALENDAR
VERSION:2.0
CALSCALE:GREGORIAN
PRODID:-//Diputació de Barcelona//DibaCMS//EN
BEGIN:VEVENT
UID:17936
DTSTAMP:20260425T141202
DTSTART:20221020T170000
DTEND:20221020T170000
SUMMARY:Cafè tertúlia: prevenció, detecció i sensacions davant el càncer de mama
LOCATION:Avinguda de la Unitat, s/n 08110 Montcada i Reixac
METHOD:PUBLISH
X-WR-CALNAME:oac@montcada.org
X-WR-TIMEZONE:Europe/Madrid
DESCRIPTION:A càrrec de Sin Teta Hay Paraíso

URI:https://www.montcada.cat/actualitat/agenda/cafe-tertulia-prevencio-deteccio-i-sensacions-davant-el-cancer-de-mama.html
CLASS:PUBLIC
END:VEVENT
END:VCALENDAR
