BEGIN:VCALENDAR
VERSION:2.0
CALSCALE:GREGORIAN
PRODID:-//Diputació de Barcelona//DibaCMS//EN
BEGIN:VEVENT
UID:17683
DTSTAMP:20260423T172104
DTSTART:20220618T000000
DTEND:20220619T000000
SUMMARY:Diada Salvador Benítez 2022
LOCATION:
METHOD:PUBLISH
X-WR-CALNAME:oac@montcada.org
X-WR-TIMEZONE:Europe/Madrid
DESCRIPTION:
URI:https://www.montcada.cat/actualitat/agenda/diada-salvador-benitez-2022.html
CLASS:PUBLIC
END:VEVENT
END:VCALENDAR
